BEGIN:VCALENDAR
VERSION:2.0
PRODID:-//Finnish AI Region - ECPv6.15.20//NONSGML v1.0//EN
CALSCALE:GREGORIAN
METHOD:PUBLISH
X-ORIGINAL-URL:https://www.fairedih.fi
X-WR-CALDESC:Tapahtumat Finnish AI Region
REFRESH-INTERVAL;VALUE=DURATION:PT1H
X-Robots-Tag:noindex
X-PUBLISHED-TTL:PT1H
BEGIN:VTIMEZONE
TZID:UTC
BEGIN:STANDARD
TZOFFSETFROM:+0000
TZOFFSETTO:+0000
TZNAME:UTC
DTSTART:20220101T000000
END:STANDARD
END:VTIMEZONE
BEGIN:VEVENT
DTSTART;TZID=UTC:20230919T123000
DTEND;TZID=UTC:20230919T183000
DTSTAMP:20260422T083804
CREATED:20230905T104016Z
LAST-MODIFIED:20230905T105907Z
UID:3002-1695126600-1695148200@www.fairedih.fi
SUMMARY:Digitalization and data economy - Possibilities developing business internationally
DESCRIPTION:What are the winning recipes for digitalization and data economy? How can business be developed internationally with the help of digitalization and data economy? \nWelcome to another roadshow event on digitalization\, data economy and sustainability! This event is held together with Business Finland and Business Oulu. The event enables cooperation and networking opportunities for companies interested in data economy and digitalization. See you in Oulu! \nThe event is held in Finnish. More information can be found from the Finnish website. \nTime: 19.9.2023 at 12:30-18:00 (Lunch will be served at 11.30 onwards) \nPlace: BusinessAsema Telesali\, Hallituskatu 36B\, Oulu
URL:https://www.fairedih.fi/event/digitalization-and-data-economy-possibilities-developing-business-internationally/
LOCATION:BusinessAsema Telesali\, Hallituskatu 36B\, Oulu\, Suomi
CATEGORIES:data economy
END:VEVENT
END:VCALENDAR