BEGIN:VCALENDAR
VERSION:2.0
PRODID:-//Finnish AI Region - ECPv6.15.20//NONSGML v1.0//EN
CALSCALE:GREGORIAN
METHOD:PUBLISH
X-ORIGINAL-URL:https://www.fairedih.fi
X-WR-CALDESC:Tapahtumat Finnish AI Region
REFRESH-INTERVAL;VALUE=DURATION:PT1H
X-Robots-Tag:noindex
X-PUBLISHED-TTL:PT1H
BEGIN:VTIMEZONE
TZID:UTC
BEGIN:STANDARD
TZOFFSETFROM:+0000
TZOFFSETTO:+0000
TZNAME:UTC
DTSTART:20230101T000000
END:STANDARD
END:VTIMEZONE
BEGIN:VEVENT
DTSTART;TZID=UTC:20240904T180000
DTEND;TZID=UTC:20240904T180000
DTSTAMP:20260423T012329
CREATED:20240828T213156Z
LAST-MODIFIED:20240828T213157Z
UID:4652-1725472800-1725472800@www.fairedih.fi
SUMMARY:CSC: Last Call for the Business Experiments
DESCRIPTION:This announcement is the first call for proposals to address the uptake of HPC by SMEs in order to solve specific business challenges of SMEs that have had no prior use of\, or experience with\, HPC services.  \n\n\n\nProposals that address business challenges from European SMEs from varied application domains. SMEs with an academic focus\, or activities with a potential impact only in the long term are not within the scope of the call.  \n\n\n\nThe indicative total funding budget for all sub-projects funded under this call is € 4M. Submission deadline is on September 4th\, 2024 at 17.00 (UTC +2). Find out more by checking the information page or contacting Elina Voutiainen from CSC.
URL:https://www.fairedih.fi/event/csc-last-call-for-the-business-experiments/
END:VEVENT
END:VCALENDAR