BEGIN:VCALENDAR
VERSION:2.0
PRODID:-//Finnish AI Region - ECPv6.15.20//NONSGML v1.0//EN
CALSCALE:GREGORIAN
METHOD:PUBLISH
X-WR-CALNAME:Finnish AI Region
X-ORIGINAL-URL:https://www.fairedih.fi
X-WR-CALDESC:Tapahtumat Finnish AI Region
REFRESH-INTERVAL;VALUE=DURATION:PT1H
X-Robots-Tag:noindex
X-PUBLISHED-TTL:PT1H
BEGIN:VTIMEZONE
TZID:UTC
BEGIN:STANDARD
TZOFFSETFROM:+0000
TZOFFSETTO:+0000
TZNAME:UTC
DTSTART:20230101T000000
END:STANDARD
END:VTIMEZONE
BEGIN:VEVENT
DTSTART;TZID=UTC:20240905T083000
DTEND;TZID=UTC:20240905T150000
DTSTAMP:20260423T012255
CREATED:20240828T210307Z
LAST-MODIFIED:20240828T210308Z
UID:4640-1725525000-1725548400@www.fairedih.fi
SUMMARY:CSC: Supercomputing for businesses
DESCRIPTION:Do you want to develop your business faster and more efficiently? Did you know that EuroHPC LUMI\, Europe’s fastest supercomputer and one of the world’s leading artificial intelligence platforms\, is now also available for R&D activities of Finnish companies. And it doesn’t matter if your business is big or small! \n\n\n\nSupercomputing for Business seminar is for companies in Turku region interested to boost their innovations with supercomputing! In seminar you will hear enlightening talks by supercomputing specialists and inspiring industrial use cases where they showcase the benefits they have accomplished with supercomputing in their business. Among other things state of the art Large Language Models (LLM’s) would not be possible without supercomputers. \n\n\n\nThis seminar you will \n\n\n\n\ndiscover how supercomputing can boost your RDI efforts with demanding simulations\, large-scale artificial intelligence (Al)\, and high-performance data analytics\n\n\n\nlearn from industrial use cases showcasing the benefits of supercomputing in R&D\n\n\n\nget practical guidance on utilising LUMI for industrial use\n\n\n\nexplore financial support options for companies\n\n\n\nget to know the European Digital Innovation Hubs (EDIH) operating in Finland\, which work especially as service centers that accelerate the digitization of SMEs.\n\n\n\n\nThe main language of the seminar is English\, the discussion can also be held in Finnish. \n\n\n\nLearn more at: https://csc.fi/en/event/supercomputing-for-business-turku/ \n\n\n\nThe seminar is organised in collaboration with all Finnish EDIHs – Finnish AI Region\, Location Innovation Hub\, HealthHub Finland\, Robocoast – together with Business Turku and CSC – IT Center for Science.
URL:https://www.fairedih.fi/event/csc-supercomputing-for-businesses/
LOCATION:Visitor and Innovation Centre Joki\, Putous-auditorium\, Lemminkäisenkatu 12 b\, Turku\, 20520\, Finland
END:VEVENT
END:VCALENDAR