BEGIN:VCALENDAR
VERSION:2.0
PRODID:-//Finnish AI Region - ECPv6.15.20//NONSGML v1.0//EN
CALSCALE:GREGORIAN
METHOD:PUBLISH
X-ORIGINAL-URL:https://www.fairedih.fi
X-WR-CALDESC:Tapahtumat Finnish AI Region
REFRESH-INTERVAL;VALUE=DURATION:PT1H
X-Robots-Tag:noindex
X-PUBLISHED-TTL:PT1H
BEGIN:VTIMEZONE
TZID:UTC
BEGIN:STANDARD
TZOFFSETFROM:+0000
TZOFFSETTO:+0000
TZNAME:UTC
DTSTART:20230101T000000
END:STANDARD
END:VTIMEZONE
BEGIN:VEVENT
DTSTART;TZID=UTC:20240917T140000
DTEND;TZID=UTC:20240917T150000
DTSTAMP:20260423T012330
CREATED:20240828T212007Z
LAST-MODIFIED:20240828T213650Z
UID:4648-1726581600-1726585200@www.fairedih.fi
SUMMARY:FAIR: AI Training Noon - AI development by non-technical people
DESCRIPTION:Empowering a company’s workforce\, regardless of their coding background\, to independently create AI-driven solutions tailored to their unique needs. In collaboration with Microsoft and Google.
URL:https://www.fairedih.fi/event/fair-ai-training-noon-ai-development-by-non-technical-people/
LOCATION:Online
END:VEVENT
END:VCALENDAR