BEGIN:VCALENDAR
VERSION:2.0
PRODID:-//Finnish AI Region - ECPv6.15.20//NONSGML v1.0//EN
CALSCALE:GREGORIAN
METHOD:PUBLISH
X-WR-CALNAME:Finnish AI Region
X-ORIGINAL-URL:https://www.fairedih.fi
X-WR-CALDESC:Tapahtumat Finnish AI Region
REFRESH-INTERVAL;VALUE=DURATION:PT1H
X-Robots-Tag:noindex
X-PUBLISHED-TTL:PT1H
BEGIN:VTIMEZONE
TZID:UTC
BEGIN:STANDARD
TZOFFSETFROM:+0000
TZOFFSETTO:+0000
TZNAME:UTC
DTSTART:20240101T000000
END:STANDARD
END:VTIMEZONE
BEGIN:VEVENT
DTSTART;TZID=UTC:20250115T140000
DTEND;TZID=UTC:20250115T160000
DTSTAMP:20260422T183612
CREATED:20241217T073201Z
LAST-MODIFIED:20241217T073452Z
UID:6514-1736949600-1736956800@www.fairedih.fi
SUMMARY:DigiCare EDIH: Market Access Germany Webinar
DESCRIPTION:This webinar provides SMEs and startups with essential information to facilitate a successful entry into the German market. Industry experts will share practical information\, real-world examples\, and valuable insights into navigating Germany’s evolving healthcare ecosystem. Attendees will also learn about the support services offered by EDIHs\, designed to assist businesses in exploring opportunities in one of Europe’s leading markets for MedTech and digital health innovations. \n\n\n\nProgram: (Central European Time) \n\n\n\n\n14:00 – 15:00 Market Access GermanySpeaker:\n\nMarco Wendel\, CEO at Medical Valley EMN e.V\n\n\n\n\n\n15:00 – 15:30 Best Practices for Market EntrySpeaker:\n\n[Speaker TBD]\n\n\n\n\n\n15:30 – 16:00 Introduction to EDIH DigiCare and EDIH CITAHSpeakers:\n\nTimm Ehbauer\, Representative of EDIH DigiCare\n\n\n\nDr. Björn Holtze\, Representative of EDIH CITAHLearn about the extensive support services offered by these EDIHs to help your business succeed in Germany’s competitive healthcare market.\n\n\n\n\n\n\nThis webinar is essential for startups and SMEs looking to expand into Germany’s healthcare sector. Take advantage of this opportunity to connect with industry leaders and access actionable advice. Please note that the webinar follows Central European Time (CET)\, which is one hour behind Finnish time. \n\n\n\nSecure your spot by registering here. The event is part of the Unlocking Opportunities in the European Health Sector Webinar series. Find out more at: https://businessturku.fi/en/event/webinar-series-unlocking-opportunities-in-the-european-health-sector/
URL:https://www.fairedih.fi/event/digicare-webinar-market-access-germany/
ATTACH;FMTTYPE=image/png:https://www.fairedih.fi/files/2024/12/EDIH-Webinar-series-MAIN-2048x1152-1.png
END:VEVENT
BEGIN:VEVENT
DTSTART;TZID=UTC:20250115T140000
DTEND;TZID=UTC:20250115T163000
DTSTAMP:20260422T183612
CREATED:20241217T123544Z
LAST-MODIFIED:20241217T123545Z
UID:6594-1736949600-1736958600@www.fairedih.fi
SUMMARY:FAIR and XR Center: XR & AI Afternoon
DESCRIPTION:We are delighted to invite you to an XR & AI Afternoon at the Helsinki XR Center on Wednesday\, January 15th\, 2025! This exclusive event is designed for FAIR EDIH customers and our consortium partner organizations\, offering an inspiring exploration into the transformative potential of Extended Reality (XR) and Artificial Intelligence (AI) in shaping the future of industries and communities. \n\n\n\nWhy Attend? Discover the possibilities of AI and XR as they redefine innovation\, sustainability\, and user experiences. Engage with Helsinki XR Center experts and immerse yourself in cutting-edge demonstrations that offer a glimpse into the future. You can register by filling out registration form. \n\n\n\nAgenda Highlights: Welcome & Introduction to Helsinki XR CenterTiina Vuorio\, Head of UnitGain insight into the XR Center’s role as a pioneer in immersive technology development and collaboration in Finland and EU region.  \n\n\n\nWhat is XR? Key Technologies\, Application Areas & Use Cases\, Jussi Salonen\, XR Specialist & HubmasterDelve into the foundational technologies and real-world applications of XR across industries like healthcare\, education\, and beyond.  \n\n\n\nAI + XR: A Perfect Marriage for Future Solutions\, Narmeen Marji\, Urban Architect & XR ExpertEnvision how AI and XR combine to unlock bold new possibilities—smarter cities\, immersive training environments\, innovative entertainment\, and sustainable design.  \n\n\n\nNarmeen will dive into forward-looking concepts\, showcasing how these technologies are set to transform the way we interact with the world\, solve global challenges\, and empower businesses to thrive in a connected future.  \n\n\n\nGuided Visit to Our Showroom & New Immersive Sustainability LabExperience hands-on demonstrations of XR and AI technologies\, including innovative solutions for sustainability and beyond.Event Details: Date: Wednesday\, January 15th\, 2025\, Time: 14:00–16:30Location: Helsinki XR Center\, Hämeentie 135A\, Helsinki \n\n\n\nPlease note that the total number of participants is restricted 60.
URL:https://www.fairedih.fi/event/fair-and-xr-center-xr-ai-afternoon/
LOCATION:Metropolia Arabia Campus\, Hämeentie 135 D\, Helsinki\, Finland
ATTACH;FMTTYPE=image/jpeg:https://www.fairedih.fi/files/2024/12/maxresdefault.jpg
END:VEVENT
END:VCALENDAR