BEGIN:VCALENDAR
VERSION:2.0
PRODID:-//Finnish AI Region - ECPv6.15.20//NONSGML v1.0//EN
CALSCALE:GREGORIAN
METHOD:PUBLISH
X-WR-CALNAME:Finnish AI Region
X-ORIGINAL-URL:https://www.fairedih.fi
X-WR-CALDESC:Tapahtumat Finnish AI Region
REFRESH-INTERVAL;VALUE=DURATION:PT1H
X-Robots-Tag:noindex
X-PUBLISHED-TTL:PT1H
BEGIN:VTIMEZONE
TZID:UTC
BEGIN:STANDARD
TZOFFSETFROM:+0000
TZOFFSETTO:+0000
TZNAME:UTC
DTSTART:20240101T000000
END:STANDARD
END:VTIMEZONE
BEGIN:VEVENT
DTSTART;TZID=UTC:20250819T160000
DTEND;TZID=UTC:20250819T180000
DTSTAMP:20260420T045853
CREATED:20250815T104429Z
LAST-MODIFIED:20250815T104431Z
UID:8896-1755619200-1755626400@www.fairedih.fi
SUMMARY:AI Boost: Supercharge Your Business with AIStart
DESCRIPTION:Join Helsinki’s fastest-growing AI community! \n\n\n\nDiscover real startup stories\, insights from FAIR and AIStart experts\, and engage in a dynamic panel discussion on AI’s opportunities and challenges – all whilst enjoying networking\, mocktails\, and pizza. \n\n\n\nPerfect for founders\, SMEs\, researchers\, students\, and anyone curious about AI in action. Our free event is open to everyone interested in growing with AI! \n\n\n\nDate: August 19\, 2025Time: 16:00–18:00 (doors open at 15:30)Location: Maria 01\, HelsinkiFor: Startups\, SMEs\, universities\, ecosystem builders & future collaboratorsHosted by AIStart – a joint project by Haaga-Helia\, Metropolia\, the cities of Helsinki\, Vantaa\, and Espoo\, supporting inclusive and practical AI adoption in business.Sign up! \n\n\n\nProgram Highlights: \n\n\n\n 16:00–16:10 | Welcome & Opening Remarks 16:10–16:25 | Keynote: AI for Growth – A Strategic Perspective 16:25–16:35 | Startup Spotlight: AI in Action 16:35–17:00 | Panel: Scaling with AI in Helsinki – What’s Next? 17:00–18:00 | Networking Bingo + Pizza & Mocktails \n\n\n\nMore information about the event can be found on the website.
URL:https://www.fairedih.fi/event/ai-boost-supercharge-your-business-with-aistart/
ATTACH;FMTTYPE=image/png:https://www.fairedih.fi/files/2025/08/community-event_august_banner-2048x1076-1.png
END:VEVENT
END:VCALENDAR