BEGIN:VCALENDAR
VERSION:2.0
PRODID:-//Finnish AI Region - ECPv6.15.20//NONSGML v1.0//EN
CALSCALE:GREGORIAN
METHOD:PUBLISH
X-WR-CALNAME:Finnish AI Region
X-ORIGINAL-URL:https://www.fairedih.fi
X-WR-CALDESC:Tapahtumat Finnish AI Region
REFRESH-INTERVAL;VALUE=DURATION:PT1H
X-Robots-Tag:noindex
X-PUBLISHED-TTL:PT1H
BEGIN:VTIMEZONE
TZID:UTC
BEGIN:STANDARD
TZOFFSETFROM:+0000
TZOFFSETTO:+0000
TZNAME:UTC
DTSTART:20240101T000000
END:STANDARD
END:VTIMEZONE
BEGIN:VEVENT
DTSTART;TZID=UTC:20251106T173000
DTEND;TZID=UTC:20251106T220000
DTSTAMP:20260419T233546
CREATED:20251011T235940Z
LAST-MODIFIED:20251011T235942Z
UID:9723-1762450200-1762466400@www.fairedih.fi
SUMMARY:LLMOps + LLM/AI-agent Evaluations in Pasila\, Helsinki
DESCRIPTION:Join us on November 6th for an evening of talks\, ideas\, and connections focused on MLOps and the latest developments in AI. This meetup brings together local practitioners who are building with and for LLMs\, agents\, and cutting-edge AI technologies\, offering real stories\, practical takeaways\, and valuable networking opportunities. \n\n\n\nPanel Discussion: Setting up Ops and Evaluations Featuring all speakers\, hosted by Jukka Remes\, Senior Lecturer at Haaga-Helia University of Applied Sciences & CTO at 8wave.ai \n\n\n\nEvent Details: Location: Haaga-Helia University of Applied Sciences\, Pasila campus (next to Pasila railway station) Date: November 6th Time: 17:30 – 22:00. You can sign up here. \n\n\n\nThe evening includes beverages\, snacks\, discussions\, and networking opportunities. The event is organized in collaboration with the ”Applied AI in Business and Education” innovation hub of the Ulysseus European University.
URL:https://www.fairedih.fi/event/llmops-llm-ai-agent-evaluations-in-pasila-helsinki/
LOCATION:Haaga-Helia\, Pasila\, Ratapihantie 13\, Helsinki\, Suomi
CATEGORIES:AI,Conference,data economy
ATTACH;FMTTYPE=image/png:https://www.fairedih.fi/files/2025/10/Helsinki-Meetup-Nov-6th-205.png
END:VEVENT
END:VCALENDAR