BEGIN:VCALENDAR
VERSION:2.0
PRODID:-//Finnish AI Region - ECPv6.15.20//NONSGML v1.0//EN
CALSCALE:GREGORIAN
METHOD:PUBLISH
X-WR-CALNAME:Finnish AI Region
X-ORIGINAL-URL:https://www.fairedih.fi
X-WR-CALDESC:Tapahtumat Finnish AI Region
REFRESH-INTERVAL;VALUE=DURATION:PT1H
X-Robots-Tag:noindex
X-PUBLISHED-TTL:PT1H
BEGIN:VTIMEZONE
TZID:UTC
BEGIN:STANDARD
TZOFFSETFROM:+0000
TZOFFSETTO:+0000
TZNAME:UTC
DTSTART:20250101T000000
END:STANDARD
END:VTIMEZONE
BEGIN:VEVENT
DTSTART;TZID=UTC:20260204T083000
DTEND;TZID=UTC:20260204T121500
DTSTAMP:20260419T200220
CREATED:20260129T070914Z
LAST-MODIFIED:20260129T081527Z
UID:11881-1770193800-1770207300@www.fairedih.fi
SUMMARY:Haaga-Helia: GenAI Toolkit Launch 4.2.2026 (English)
DESCRIPTION:Did you know that GAIK’s GenAI Toolkit will launch on 4 February 2026? Yep\, you read that correctly. We’re unveiling the first version of the GAIK Toolkit. And you’re invited to be part of this moment.  \n\n\n\nWhether you’re exploring AI integration or looking to accelerate your own organisation’s AI journey\, this is an event for you. So\, what have we got in store for you?▪️Keynote by Jukka Moilanen\, Leading Retail Bankin AI at @op-poh Leading Retail Banking AI (OP Financial Group)▪️Real-world case studies from Lotus Demolition Oy\, Luvata & QAdental and live toolkit overview and demos showing practical applications🗓️ February 4\, 2026⏲️ 8:30 AM to 12:15 PM🗺️ Haaga-Helia Pasila Campus / OnlineAnd yes\, of course we have hands-on insights into leveraging GenAI for business impact. This is your chance to see how organisations are really implementing GenAI solutions\, network with innovators\, and get early access to our tools that could transform how you work.There are still a few seats left for the face-to-face event\, but you can also join online. Please read about the whole schedule and register here: https://gaik.ai/events/genai-toolkit-launch/
URL:https://www.fairedih.fi/event/haaga-helia-genai-toolkit-launch-4-2-2026/
CATEGORIES:AI,Conference,data economy
ATTACH;FMTTYPE=image/png:https://www.fairedih.fi/files/2026/01/gaik-tapahtuma-001.png
END:VEVENT
END:VCALENDAR