BEGIN:VCALENDAR
VERSION:2.0
PRODID:-//Finnish AI Region - ECPv6.15.20//NONSGML v1.0//EN
CALSCALE:GREGORIAN
METHOD:PUBLISH
X-ORIGINAL-URL:https://www.fairedih.fi
X-WR-CALDESC:Tapahtumat Finnish AI Region
REFRESH-INTERVAL;VALUE=DURATION:PT1H
X-Robots-Tag:noindex
X-PUBLISHED-TTL:PT1H
BEGIN:VTIMEZONE
TZID:UTC
BEGIN:STANDARD
TZOFFSETFROM:+0000
TZOFFSETTO:+0000
TZNAME:UTC
DTSTART:20250101T000000
END:STANDARD
END:VTIMEZONE
BEGIN:VEVENT
DTSTART;TZID=UTC:20260305T081500
DTEND;TZID=UTC:20260305T130000
DTSTAMP:20260419T200446
CREATED:20260303T125553Z
LAST-MODIFIED:20260303T130819Z
UID:12402-1772698500-1772715600@www.fairedih.fi
SUMMARY:Supercomputing for Business\, Jyväskylä
DESCRIPTION:Kiinnostaisiko suurteholaskennan käyttö esim. tekoälysovelluksen kehitystyöhön tai erilaisiin simulaatioihin? EuroHPC LUMI\, yksi maailman tehokkaimmista supertietokoneista ja tekoälyalustoista\, on käytettävissä kaikenkokoisten suomalaisyritysten\, akateemisten tutkijoiden ja julkisen sektorin TKI-työhön.  \n\n\n\nLUMI AI Factory tarjoaa lisäksi tekoälykehitystyöhön palveluita\, kuten asiantuntijatukea\, konsultointia ja koulutusta. PK- ja startup-yrityksille\, tutkijoille ja julkiselle sektorille LUMI AI Factoryn palvelut ovat maksuttomia. \n\n\n\nSupercomputing for Business -seminaari on tarkoitettu yrityksille ja tutkijoille\, jotka ovat kiinnostuneita tehostamaan TKI-toimintaansa suurteholaskennan avulla.  \n\n\n\nSeminaarissa kuulet CSC:n asiantuntijoilta asiaa valaisevia puheenvuoroja ja LUMIa käyttänyt yritys kertoo paikan päällä\, minkälaista hyötyä he ovat LUMI-supertietokoneen avulla saavuttaneet. \n\n\n\nSeminaarissa esitellään \n\n\n\n\nkuinka LUMI-supertietokoneen avulla voi tehostaa yrityksen TKI-työtä hyödyntämällä suurteholaskentaa laskentatehoa vaativaan tekoälykehitystyöhön\, virtauslaskentaan\, vaativiin simulaatioihin ja data-analytiikkaan\n\n\n\nerilaisia rahoitusvaihtoehtoja yrityksille\n\n\n\nkäytännön ohjeita LUMIn käyttöön\n\n\n\nLUMI AI Factoryn palveluita\n\n\n\nLUMI-supertietokonetta TKI-työssään käyttänyt yritys\n\n\n\nSuomessa toimivia Eurooppalaisia Digitaalisia Innovaatiohubeja (EDIH)\, jotka toimivat erityisesti pk-yritysten digitalisaatiota vauhdittavina palvelukeskuksina.\n\n\n\n\nSeminaari pidetään suomeksi\, mutta esitysmateriaalit ovat englanninkieliset. / The seminar will be held in Finnish\, but the presentation materials will be in English. Lisää tietoa löydät täältä.
URL:https://www.fairedih.fi/event/supercomputing-for-business-jyvaskyla/
CATEGORIES:AI,Conference,data economy
ATTACH;FMTTYPE=image/jpeg:https://www.fairedih.fi/files/2023/08/FAIR-verkkosivut-tiedote-001-2.jpg
END:VEVENT
END:VCALENDAR