BEGIN:VCALENDAR
VERSION:2.0
PRODID:-//Finnish AI Region - ECPv6.15.20//NONSGML v1.0//EN
CALSCALE:GREGORIAN
METHOD:PUBLISH
X-ORIGINAL-URL:https://www.fairedih.fi
X-WR-CALDESC:Tapahtumat Finnish AI Region
REFRESH-INTERVAL;VALUE=DURATION:PT1H
X-Robots-Tag:noindex
X-PUBLISHED-TTL:PT1H
BEGIN:VTIMEZONE
TZID:UTC
BEGIN:STANDARD
TZOFFSETFROM:+0000
TZOFFSETTO:+0000
TZNAME:UTC
DTSTART:20220101T000000
END:STANDARD
END:VTIMEZONE
BEGIN:VEVENT
DTSTART;TZID=UTC:20230906T140000
DTEND;TZID=UTC:20230906T170000
DTSTAMP:20260422T072000
CREATED:20230905T110331Z
LAST-MODIFIED:20230905T110604Z
UID:3016-1694008800-1694019600@www.fairedih.fi
SUMMARY:Kohti muutosta: tehosta työtä tekoälyllä!
DESCRIPTION:Tiesitkö\, että tekoälyä voi jo hyödyntää apuna monissa työtehtävissä? Tule kuulemaan ja oppimaan tekoälyn käytöstä kädestä pitäen Kohti muutosta: tehosta työtä tekoälyllä! -tapahtumassa. Tapahtuma on maksuton. \n\n\n\n\n\n\n\nHuippukouluttajat Antti Merilehto ja Lauri Järvilehto opastavat sinut tekoälyn saloihin ja kertovat konkreettisesti\, kuinka voit hyödyntää tekoälyä yritystoiminnassa. Yritysten edustajat voivat osallistua joko tekoälytyökaluja esittelevään työpajaan tai erityisesti sote-alan yrityksille suunnattuun työpajaan. Muu ohjelma on avoin kaikille. \nMilloin: keskiviikkona 6.9. klo 14–17 \nMissä: Haaga-Helian Pasilan kampuksella (Ratapihantie 13\, Helsinki) \nLisää tietoa tapahtumasta löydät tapahtuman verkkosivuilta osoitteesta: \nhttps://www.haaga-helia.fi/fi/ajankohtaista/tapahtumat/kohti-muutosta-tehosta-tyota-tekoalylla
URL:https://www.fairedih.fi/event/towards-change-boost-work-with-ai-finnish/
LOCATION:Haaga-Helia\, Pasila\, Ratapihantie 13\, Helsinki\, Suomi
CATEGORIES:AI
END:VEVENT
BEGIN:VEVENT
DTSTART;TZID=UTC:20230919T123000
DTEND;TZID=UTC:20230919T183000
DTSTAMP:20260422T072000
CREATED:20230905T104016Z
LAST-MODIFIED:20230905T105907Z
UID:3002-1695126600-1695148200@www.fairedih.fi
SUMMARY:Digitalization and data economy - Possibilities developing business internationally
DESCRIPTION:What are the winning recipes for digitalization and data economy? How can business be developed internationally with the help of digitalization and data economy? \nWelcome to another roadshow event on digitalization\, data economy and sustainability! This event is held together with Business Finland and Business Oulu. The event enables cooperation and networking opportunities for companies interested in data economy and digitalization. See you in Oulu! \nThe event is held in Finnish. More information can be found from the Finnish website. \nTime: 19.9.2023 at 12:30-18:00 (Lunch will be served at 11.30 onwards) \nPlace: BusinessAsema Telesali\, Hallituskatu 36B\, Oulu
URL:https://www.fairedih.fi/event/digitalization-and-data-economy-possibilities-developing-business-internationally/
LOCATION:BusinessAsema Telesali\, Hallituskatu 36B\, Oulu\, Suomi
CATEGORIES:data economy
END:VEVENT
BEGIN:VEVENT
DTSTART;TZID=UTC:20230921T090000
DTEND;TZID=UTC:20230921T123000
DTSTAMP:20260422T072000
CREATED:20230905T104235Z
LAST-MODIFIED:20230905T115632Z
UID:3006-1695286800-1695299400@www.fairedih.fi
SUMMARY:FIIF Event: AI and the power of simulation
DESCRIPTION:FIIF Event (AI in Industry series): “AI and the power of simulation” is organized Sept. 21\, 2023 in Tampere\, Platform6 (Åkerlundinkatu 8) and online) \nQuality and effectiveness of AI applications relies heavily on availability of high-quality\, domain-specific datasets for testing and training those applications. In-house data\, if available\, needs to be collected\, compiled\, and annotated and still it may be biased and inadequate to model untypical use cases. Synthetic training data (i.e. computer-generated and realistic use case data) has already been used in computer vision applications\, but this approach can be generalized to cover also other industries. Read more at: https://businesstampere.com/?event=fiif-event-ai-and-the-power-of-simulation
URL:https://www.fairedih.fi/event/ai-and-the-power-of-simulation/
LOCATION:Platform 6 / Online\, Åkerlundinkatu 8\, Tampere\, Suomi
CATEGORIES:simulation
END:VEVENT
END:VCALENDAR