BEGIN:VCALENDAR
VERSION:2.0
PRODID:-//Finnish AI Region - ECPv6.15.20//NONSGML v1.0//EN
CALSCALE:GREGORIAN
METHOD:PUBLISH
X-WR-CALNAME:Finnish AI Region
X-ORIGINAL-URL:https://www.fairedih.fi
X-WR-CALDESC:Tapahtumat Finnish AI Region
REFRESH-INTERVAL;VALUE=DURATION:PT1H
X-Robots-Tag:noindex
X-PUBLISHED-TTL:PT1H
BEGIN:VTIMEZONE
TZID:UTC
BEGIN:STANDARD
TZOFFSETFROM:+0000
TZOFFSETTO:+0000
TZNAME:UTC
DTSTART:20230101T000000
END:STANDARD
END:VTIMEZONE
BEGIN:VEVENT
DTSTART;TZID=UTC:20240813T130000
DTEND;TZID=UTC:20240813T140000
DTSTAMP:20260423T012313
CREATED:20240611T211846Z
LAST-MODIFIED:20241029T121743Z
UID:4560-1723554000-1723557600@www.fairedih.fi
SUMMARY:FAIR & Info webinar: AI in Mobility Challenge Launch
DESCRIPTION:Mobility Lab Helsinki and FAIR\, The Finnish AI Region\, are inviting you to harness the power of innovative technologies to create versatile tools for data-driven management and resident participation by using a range of Helsinki-related mobility datasets. \n\n\n\nYou can register for the info webinar held on 13 August by filling out the form at: https://forumvirium.fi/tapahtuma/info-webinar-ai-in-mobility-challenge-launch/ \n\n\n\nYou can register for the competition by filling out the registration form. The application period ends on September 13\, 2024. \n\n\n\nAdditional information \n\n\n\nMobility Lab Helsinki has released a Mobility Data Catalog that enables offering and utilising data in the development of smart mobility. We are experts in agile piloting and the outcome from our pilots is new and unforeseen data. \n\n\n\nWe now want you to explore how to make new versatile tools for data-driven management and resident participation out of this data and its integrations. \n\n\n\nJoin the challenge and have the chance to: \n\n\n\n\nWin prize money in the form of a pilot (prize pool of 20\,000 euros)\, one or more winners\n\n\n\nMeet and spar with the experts from FAIR and EDIH networks\, including business coaching throughout the challenge\n\n\n\nLearn about the opportunities related to Business Finland’s Quantum Computing campaign\n\n\n\n\nThe themes of the challenge are: \n\n\n\n\nfunctionality\n\n\n\nsafety\n\n\n\nsustainability\n\n\n\n\nThese themes include aspects such as: \n\n\n\n\nseamless accessibility and vulnerable road users\n\n\n\npromoting traffic safety\n\n\n\nfostering sustainable city planning\, and\n\n\n\nenhancing resilience for temporary disruptions in urban traffic.
URL:https://www.fairedih.fi/event/info-webinar-ai-in-mobility-challenge-launch/
LOCATION:Online
ATTACH;FMTTYPE=image/jpeg:https://www.fairedih.fi/files/2024/06/fair-mobility-lab-kuva-1.jpg
END:VEVENT
BEGIN:VEVENT
DTSTART;TZID=UTC:20240813T140000
DTEND;TZID=UTC:20240813T150000
DTSTAMP:20260423T012313
CREATED:20240804T164728Z
LAST-MODIFIED:20240804T164729Z
UID:4635-1723557600-1723561200@www.fairedih.fi
SUMMARY:FAIR: AI for Business Leaders
DESCRIPTION:Hello Business Innovators\, \n\n\n\nReady to harness the transformative power of Artificial Intelligence in your leadership and business strategies?  \n\n\n\nJoin us for the FAIR AI Training noon: AI for Business Leaders\, scheduled for August 13\, 2024\, at 02:00 PM. \n\n\n\nTake the Lead in Business Innovation: Embrace the opportunity to enhance your strategic decisions and operational efficiencies through AI.  \n\n\n\nThis webinar will equip you with the necessary tools and knowledge to participate in and lead the future business landscape.  \n\n\n\nReserve your seat now by registering on our website. \n\n\n\nWhy You Should Attend? \n\n\n\n\nIntroduction to Partnerships: Learn about FAIR and our partner European Digital Innovation Hubs (EDIH)\, and how this collaboration can benefit your business\n\n\n\nExpert Guidance from Nina Ammunét-Lappi: Discover how tools like Copilot for M365 can revolutionize your business operations with AI.\n\n\n\nCritical Insights with Arash Hajikhani: Understand the complexities of AI pollution and explore effective strategies to maintain integrity and value in the age of rapid technological advancement.\n\n\n\nSuccess Stories from Peers: Listen to fellow business leaders share their real-world experiences with AI\, offering you practical insights and inspiration\n\n\n\nInteractive Q&A: Pose your questions to our experts to tailor the insights you gather to your business needs
URL:https://www.fairedih.fi/event/fair-ai-for-business-leaders/
END:VEVENT
END:VCALENDAR