BEGIN:VCALENDAR
VERSION:2.0
PRODID:-//Finnish AI Region - ECPv6.15.20//NONSGML v1.0//EN
CALSCALE:GREGORIAN
METHOD:PUBLISH
X-WR-CALNAME:Finnish AI Region
X-ORIGINAL-URL:https://www.fairedih.fi
X-WR-CALDESC:Tapahtumat Finnish AI Region
REFRESH-INTERVAL;VALUE=DURATION:PT1H
X-Robots-Tag:noindex
X-PUBLISHED-TTL:PT1H
BEGIN:VTIMEZONE
TZID:UTC
BEGIN:STANDARD
TZOFFSETFROM:+0000
TZOFFSETTO:+0000
TZNAME:UTC
DTSTART:20230101T000000
END:STANDARD
END:VTIMEZONE
BEGIN:VEVENT
DTSTART;TZID=UTC:20241010T100000
DTEND;TZID=UTC:20241010T110000
DTSTAMP:20260422T215847
CREATED:20240928T140126Z
LAST-MODIFIED:20240928T140128Z
UID:5031-1728554400-1728558000@www.fairedih.fi
SUMMARY:Haaga-Helia: Tekoäly Suomessa
DESCRIPTION:Yle Areenassa 10.10.2024 klo 10-11 esitettävä Tekoäly Suomessa -webinaari tuo yhteen eturivin asiantuntijoita ja käytännön tietoa tekoälystä. Webinaari on suunnattu erityisesti ammattilaisille\, jotka haluavat viedä uransa ja organisaationsa uudelle tasolle tekoälyn avulla. \n\n\n\nHaaga-Helia ammattikorkeakoulu kutsuu sinut mukaan 10.10.2024 klo 10-11 järjestettävään Tekoäly Suomessa -webinaariin. Tilaisuus on räätälöity vastaamaan eri toimialojen asiantuntijoiden tarpeisiin mukaansatempaavalla tavalla. Tilaisuudelta voit odottaa innostavia puheenvuoroja ja värikästä keskustelua\, joka avaa tekoälyn potentiaalia ymmärrettävällä ja käytännönläheisellä tavalla.  \n\n\n\nTekoäly Suomessa -webinaarissa ääneen pääsevät Futuricen perustaja ja omistaja Tuomas Syrjänen\, AI Finland-verkoston johtaja Karoliina Partanen sekä Ylen Jälkidigistäkin tutut Sofigaten Executive CTO Lassi Kurkijärvi ja yrittäjä ja teknologiavaikuttaja Maria Ritola. Tapahtuman juontaa Haaga-Helian vanhempi tutkija Anna Lahtinen. \n\n\n\nWebinaari lähetetään suorana Haaga-Helian Pasilan studiosta. Voit katsoa sen joko livenä Yle Areenan kautta tai tallenteena myöhemmin\, kun sinulle itsellesi parhaiten sopii. Älä siis enää aikaile\, vaan ilmoittaudu mukaan to 10.10.2024 klo 10.00-11.00 järjestettävään Tekoäly Suomessa -webinaariin tämän linkin kautta. \n\n\n\nTilaisuuden vieraat\n\n\n\n\nKaroliina Partanen on AI Finland -tekoälyverkoston innovatiivinen ja energinen johtaja. Karoliinan tavoitteena on nostaa Suomi maailman tekoälykehityksen kärkeen kiihdyttämällä suomalaisorganisaatioiden tekoälyn soveltamista ja kehittämistä. Hän on aiemmin työskennellyt muun muassa Nokialla\, eri liikkeenjohdon konsultointiyrityksissä sekä johtavassa tekoälymuutoskonsultointiyritys Sulavassa. \n\n\n\nLassi Kurkijärvi on pohjoismaisen bisnesteknologiaan erikoistuneen konsulttiyritys Sofigaten teknologiajohtaja ja johtava asiantuntija pohjoismaisen bisnesteknologian saralla. Lassin on erikoistunut auttamaan eurooppalaisia pörssiyhtiöitä ja julkishallinnon organisaatioita hyödyntämään tekoälyä ja älykkäitä toimintamalleja. Vuosikymmenten kokemus teknologia-alalta on tehnyt hänestä asiantuntijan\, joka auttaa murtamaan vanhat ajatusmallit. \n\n\n\nMaria Ritola on suomalainen yrittäjä ja palkittu teknologiavaikuttaja sekä tutkijoille tekoälypohjaisia sovelluksia rakentavan Iris.ai:n perustaja. Ennen tätä Maria veti Demos Helsingin ilmastonmuutostiimiä. Koulutukseltaan hän on ekonomisti ja perehtynyt tulevaisuudentutkimukseen Piilaakson Singularity Universityssa. Maria toimii vakiopuhujana Yle Aamun Jälkidigi-ohjelmassa. \n\n\n\nTuomas Syrjänen on suomalaisen teknologiayhtiö Futuricen perustaja ja omistaja. Hän toimii parhaillaan yrityksen tekoälystä ja sen kehityksestä vastaavana johtajana. Hän on tunnettu erityisesti digitalisaation\, tekoälyn ja innovaatiojohtamisen asiantuntijana. Syrjäsen siipien alla Futurice on kasvanut kansainvälisesti tunnustetuksi yritykseksi\, joka yhdistää teknologian ja liiketoiminnan uudistamisen. \n\n\n\nAnna Lahtinen on vanhempana tutkija Haaga-Helia ammattikorkeakoulussa. Hänellä on erityisosaamista tekoälyn tuomista mullistuksista työelämässä\, liiketoiminnassa ja urapoluissa. Lahtinen on ollut eturintamassa tukemassa tekoälyn käyttöönottoa yrityksissä. Hänen johtamissaan tutkimus-\, kehittämis- ja innovaatiohankkeissa on tuettu yli 150 yritystä ja organisaatiota hyödyntämään tekoälyteknologioita ja kehittämään niihin liittyvää osaamista.\n\n\n\n\nTietoa tapahtumasta\n\n\n\nTekoäly Suomessa -webinaari on osa Työsuojelurahaston rahoittamaa Tekoälykäs pk-yritys: muutosvoimaa tekoälyn hyödyntämiseen pk-yrityksille ja niiden työntekijöille -hanketta\, jonka verkosto- ja viestintäkumppaneihin kuuluvat Business Helsinki\, Keski-Uudenmaan kehitysyhtiö KEUKE\, Länsi-Uudenmaan kauppakamari\, Suomen yrittäjät\, Terveysteknologia\, Tradenomiliitto ja Yrityskummit. Hanke tekee yhteistyötä myös Turun kauppakamarin\, Itä-Uudenmaan kehitysyhtiö Posintran ja Kotkan-Haminan seudun kehittämisyhtiö Cursor.  \n\n\n\nHankkeen ohjausryhmään kuuluvat Terveysteknologian Saara Hassinen\, Suomen Yrityskummien Jerker Forsblom ja Päivi Heikinheimo\, Työsuojelurahaston Päivi-Maria Isokääntä\, Länsi-Uudenmaan kauppakamarin Tommi Knaapinen\, AIThinkin Sami Masala\, Business Helsingin Ossi Mattila\, Uudenmaan yrittäjien Petri Ovaska\, Elina Pekkarinen KEUKE:lta\, Haaga-Helian Anna Rissanen\, Nestor Partnersin Timo Ronkainen\, Henrik Keinonen Aalto-yliopistolta\, Lassi Kurkijärvi Sofigatelta sekä Tradenomiliiton Tuomas Meriniemi.
URL:https://www.fairedih.fi/event/haaga-helia-tekoaly-suomessa/
ATTACH;FMTTYPE=image/png:https://www.fairedih.fi/files/2024/09/tapahtumakuva-21.png
END:VEVENT
BEGIN:VEVENT
DTSTART;TZID=UTC:20241015T140000
DTEND;TZID=UTC:20241015T150000
DTSTAMP:20260422T215847
CREATED:20241002T074746Z
LAST-MODIFIED:20241014T151807Z
UID:5089-1729000800-1729004400@www.fairedih.fi
SUMMARY:CANCELLED: FAIR AI Training Noon: Importance of public cloud platforms\, why should SMEs leverage cloud services and when to consider HPC
DESCRIPTION:The event is canceled due to personal reasons of the staff. \nWelcome to another FAIR Training Noon\, where we will demonstrate the benefits of public cloud solutions for AI development and businesses. In addition\, we will explore cases where utilizing supercomputers might be more suitable. \n \n \nOur guest speakers for the event are Juha Karppinen from Microsoft\, Sandra Calvo from Google\, and Morthen Mathisen from CSC – IT Center for Science. \n \n \nThis event is targeted at SME decision-makers and technical experts. Pre-register and join us on October 15th at 2 PM EE \n \n \n \n \n \n \n \n		\n			\n				\n					\n        \n            \n			\n			            \n				\n				                    \n						Section Title					\n					\n				            \n\n					            \n\n			\n        \n\n		\n						\n			\n		\n		 \n		\n			\n				\n					\n        \n            \n			\n			            \n				\n				                    \n						Section Title					\n					\n				            \n\n					            \n\n			\n        \n\n		\n						\n			\n		\n		 \n		\n			\n				\n					\n        \n            \n			\n			            \n				\n				                    \n						Section Title
URL:https://www.fairedih.fi/event/fair-importance-of-public-cloud-platforms-why-should-smes-leverage-cloud-services-and-when-to-consider-hpc/
LOCATION:Online
ATTACH;FMTTYPE=image/png:https://www.fairedih.fi/files/2024/10/1727873685398.png
END:VEVENT
BEGIN:VEVENT
DTSTART;TZID=UTC:20241024T083000
DTEND;TZID=UTC:20241024T103000
DTSTAMP:20260422T215847
CREATED:20241021T114603Z
LAST-MODIFIED:20241021T114605Z
UID:5424-1729758600-1729765800@www.fairedih.fi
SUMMARY:FAIR AI Breakfast Seminar
DESCRIPTION:Euroopan unioni on asettanut uuden suunnan luotettavalle datan hyödyntämiselle\, joka tulee toimimaan kivijalkana kaikelle tulevaisuuden tekemiselle. Mutta mitä tämä kaikki oikeastaan tarkoittaa pk-yrityksille\, ja miten sinä ja yrityksesi voitte valmistautua tuleviin muutoksiin?  \n\n\n\nVastauksia näihin kysymyksiin etsitään ja tarjotaan to 24.10.2024 klo 8.30-10.30 Haaga-Helian Pasilan kampuksella järjestettävässä AI Breakfast-aamupalatilaisuudessa\, jossa ovat paikalla myös Haaga-Helian ja FAIR:in datatalouteen perehtynyt asiantuntijamme Kari Hiekkanen sekä EU-juridiikan osaaja ja lehtori Juuli Venkula. \n\n\n\nAamupalatilaisuus on käytännönläheinen ja keskusteleva\, jonka vuoksi osallistujamäärä joudutaan rajoittamaan 25 henkilöön. Kannattaa siis olla nopea ilmoittautumisen kanssa. Huomioithan kuitenkin ennen ilmoittautumistasi\, että tilaisuus on suunnattu eritoten pk-yritysten edustajille\, jotka kaipaavat apua EU:n sääntelyviidakon keskellä. \n\n\n\nIlmoittaudu mukaan täyttämällä ilmoittautumislomakkeemme! \n\n\n\nAsiantuntijamme vastaavat kysymyksiisi\n\n\n\nKuluvan vuoden elokuussa voimaan astunut uusi tekoälyasetus pyrkii varmistamaan EU:ssa käytettyjen tekoälyjärjestelmien luotettavuuden sekä perusoikeuksien suojelemisen. Kyse on riskiperusteisesta lähestymistavasta\, joka astuu voimaan vaiheittain. \n\n\n\nYrityksen näkökulmasta sääntely voi tuntua jo valmiiksi monimutkaiselta\, eikä tulevat muutokset tee asiasta helpompaa. Tekoälyasetuksen 113 artiklan\, 180 resitaalin ja 5 liitteen kokonaisuus on raskaslukuinen jopa juristille\, joten tukipalveluita ja ohjausta tarvitaan. \n\n\n\nTästä syystä Haaga-Helia Pasilan kampuksella järjestettävään tilaisuuteen on varattu reilusti aikaa keskustelulle\, jotta pääsisit esittämään kysymyksiä juuri sinua ja yritystäsi askarruttavista asioista. Pasilan kampus sijaitsee osoitteessa Ratapihantie 13\, joka on vain kivenheiton päässä Pasilan asemasta ja ostoskeskus Triplasta. \n\n\n\nRajoitettu määrä paikkoja\n\n\n\nAI Breakfast-aamupalatilaisuuden keskusteleva ja osallistava luonne mahdollistaa henkilökohtaisten kysymysten esittämisen\, mutta samasta syystä joudumme rajoittamaan osallistujamäärän 25 henkilöön.  \n\n\n\nTilaisuuden järjestävät yhteistyössä Haaga-Helian Applied AI for Business and Education Innovation Hub\, Ulysseus European University sekä Finnish AI Region (FAIR). \n\n\n\nPaikka ja aika:Haaga-Helia ammattikorkeakoulu\, Ratapihantie 13\, Helsinki24.10.2024 klo 08.30–10.30Ilmoittaudu tämän linkin kautta. \n\n\n\nOhjelma: \n\n\n\n08.30 Aamupala09.00 Tekoälyn datasäätely ja yrityksiin kohdistuvat vaatimukset (Kari Hiekkanen)09.15 Tekoälyasetus ja käytännön toimenpiteet (Juuli Venkula)09.45 Yritysedustajan kokemukset10.00 Kysymyksiä ja keskustelua
URL:https://www.fairedih.fi/event/fair-ai-breakfast-seminar/
LOCATION:Haaga-Helia\, Pasila\, Ratapihantie 13\, Helsinki\, Suomi
ATTACH;FMTTYPE=image/jpeg:https://www.fairedih.fi/files/2024/09/FAIR-AI-Breakfast-007-1.jpg
END:VEVENT
END:VCALENDAR