BEGIN:VCALENDAR
VERSION:2.0
PRODID:-//Finnish AI Region - ECPv6.15.20//NONSGML v1.0//EN
CALSCALE:GREGORIAN
METHOD:PUBLISH
X-ORIGINAL-URL:https://www.fairedih.fi
X-WR-CALDESC:Tapahtumat Finnish AI Region
REFRESH-INTERVAL;VALUE=DURATION:PT1H
X-Robots-Tag:noindex
X-PUBLISHED-TTL:PT1H
BEGIN:VTIMEZONE
TZID:UTC
BEGIN:STANDARD
TZOFFSETFROM:+0000
TZOFFSETTO:+0000
TZNAME:UTC
DTSTART:20240101T000000
END:STANDARD
END:VTIMEZONE
BEGIN:VEVENT
DTSTART;TZID=UTC:20250210T090000
DTEND;TZID=UTC:20250210T110000
DTSTAMP:20260422T150936
CREATED:20241217T073923Z
LAST-MODIFIED:20241217T074129Z
UID:6517-1739178000-1739185200@www.fairedih.fi
SUMMARY:Health Data Sweden EDIH: Innovation Procurement Webinar
DESCRIPTION:Welcome to Health Data Sweden’s Webinar on Innovation Procurement\, where we will delve into the transformative potential of leveraging procurement as a tool for innovation. \n\n\n\nThis event brings together experts and practitioners from diverse backgrounds to share insights\, strategies\, and success stories that illustrate how innovation procurement can drive business growth\, foster technological advancements\, and solve pressing societal challenges. Throughout the program\, we’ll explore the European Innovation Council’s initiatives\, public procurement funding opportunities\, and real-world applications of innovative procurement strategies. \n\n\n\nJoin us as we uncover actionable strategies and foster connections to empower you in your innovation journey. The webinar is free of charge. Link to the webinar will be sent to your e-mail three days prior to the event. Please sign up HERE. \n\n\n\nThe event is part of the Unlocking Opportunities in the European Health Sector Webinar series. Find out more at: https://businessturku.fi/en/event/webinar-series-unlocking-opportunities-in-the-european-health-sector/.Please note that the webinar follows Central European Time (CET)\, which is one hour behind Finnish time. \n\n\n\nProgram: (Central European Time)\n\n\n\nProgram: (CET) \n\n\n\n\n09.00 – 09.10 Welcome\n\n\n\n\nNeshe Tuna\, Innovation Manager\, HDS EDIH \n\n\n\n\n09.10 – 10.00 Business Scaling up through the EIC Innovation Procurement Programme \n\n\n\n\nDr. Jur. Vassilis Tsanidis\, Senior Innovation Procurement Advisor & Program Coordinator\, European Commission \n\n\n\n\n10.00 – 10.30 Funding Innovation through Public Procurement\n\n\n\n\nCarolin Maule\, Innovation Manager\, Compare Foundation\, Sweden \n\n\n\n\n10.30 – 11.00 From Concept to Impact – a Success Story in Public Procurement of Innovations\n\n\n\n\nLucas Olsson\, Project Manager\, WeKnowit AB\, Sweden
URL:https://www.fairedih.fi/event/health-data-sweden-edih-innovation-procurement-webinar/
ATTACH;FMTTYPE=image/png:https://www.fairedih.fi/files/2024/12/EDIH-Webinar-series-MAIN-2048x1152-1.png
END:VEVENT
BEGIN:VEVENT
DTSTART;TZID=UTC:20250213T090000
DTEND;TZID=UTC:20250213T124000
DTSTAMP:20260422T150936
CREATED:20250123T135854Z
LAST-MODIFIED:20250206T080406Z
UID:6721-1739437200-1739450400@www.fairedih.fi
SUMMARY:Tekoäly & tietoturva PK-yrityksissä -ekosysteemitapahtuma
DESCRIPTION:Tekoälyn mahdollisuudet ja tietoturva pk-yrityksille – opi\, verkostoidu ja valmistaudu tulevaisuuteen FAIR:in\, HealthHub Finland\, Location Innovation Hub (LIH) ja Robocoast EDIH:in HealthHub Finland EDIH\, Location Innovation Hubin ja Robocoast EDIH tapahtumassa 13.02.2025 | 9.00 – 12.40 | Kulttuurikasarmi\, Helsinki \n\n\n\nMiten pk-yritykset voivat suojautua tekoälyn tuomilta uusilta tietoturvauhilta? Entä miten hyödyntää tekoälyä liiketoiminnassa turvallisesti ja tehokkaasti? Päivän aikana alan huiput tarjoavat käytännönläheisiä ratkaisuja\, esimerkkejä ja näkemyksiä tekoälyn ja kyberturvallisuuden risteyskohdista. Lisäksi tilaisuus tarjoaa ainutlaatuisen mahdollisuuden keskustella ja verkostoitua muiden pk- yritysjohtajien ja asiantuntijoiden kanssa.  \n\n\n\nÄlä jää jälkeen – tule mukaan ja varmista\, että yrityksesi on valmis tekoälyn aikakauden haasteisiin ja mahdollisuuksiin! \n\n\n\nTapahtuman ohjelma \n\n\n\n8.30 Ilmoittautuminen tapahtumaan ja aamiainen \n\n\n\n9.00 Juontajan avaus päivään\, Peter Nyman\, juontaja\, viestintäammattilainen \n\n\n\n9.25 Tekoälyn riskienhallinta – Riskienhallinta ja uhkamallinnus \n\n\n\n10.00 Miltä näyttää tulevaisuus? Tekoälyn tietoturva pk-yrityksissä – Uudet uhat ja miten suojautua niiltä \n\n\n\n10.30 EDIHien tietoturvapalvelut\, verkostoitumista & kahvitarjoilu \n\n\n\n11.45 PK-yrityksen kyberturvallisuustaidot tekoälyn aikakaudella\, Arttu Lehmuskallio\, Head of Development\, Traficom \n\n\n\n12.05 KEYNOTE: AI supply chain attacks: Samuel Marchal\, Research Team Leader\, Cybersecurity Engineering & Automation\, VTT \n\n\n\n12.30 Juontajan yhteenveto \n\n\n\n12.45 Kiitos – tilaisuus päättyy
URL:https://www.fairedih.fi/event/tekoaly-ja-tietoturva-pk-yrityksissa-2/
LOCATION:Kulttuurikasarmi\, Helsinki\, Narinkkatori 2
CATEGORIES:AI,cyber security,FAIR
ATTACH;FMTTYPE=image/png:https://www.fairedih.fi/files/2025/01/FAIR-EDIH_Tekoaly_tietoturva_pk_yrityksissa_Tapahtumabannerit_1200x628px_v4.png
END:VEVENT
END:VCALENDAR