BEGIN:VCALENDAR
VERSION:2.0
PRODID:-//Finnish AI Region - ECPv6.15.20//NONSGML v1.0//EN
CALSCALE:GREGORIAN
METHOD:PUBLISH
X-WR-CALNAME:Finnish AI Region
X-ORIGINAL-URL:https://www.fairedih.fi
X-WR-CALDESC:Tapahtumat Finnish AI Region
REFRESH-INTERVAL;VALUE=DURATION:PT1H
X-Robots-Tag:noindex
X-PUBLISHED-TTL:PT1H
BEGIN:VTIMEZONE
TZID:UTC
BEGIN:STANDARD
TZOFFSETFROM:+0000
TZOFFSETTO:+0000
TZNAME:UTC
DTSTART:20240101T000000
END:STANDARD
END:VTIMEZONE
BEGIN:VEVENT
DTSTART;TZID=UTC:20250520T090000
DTEND;TZID=UTC:20250520T130000
DTSTAMP:20260422T082856
CREATED:20250411T044146Z
LAST-MODIFIED:20250515T000456Z
UID:7732-1747731600-1747746000@www.fairedih.fi
SUMMARY:Finnish AI Region: Tekoälysäätely haltuun pk-yrityksissä
DESCRIPTION:Tekoäly ei ole enää vain visio\, vaan todellisuutta\, joka muuttaa liiketoimintaa vauhdilla. Mutta tiedätkö\, miten navigoida sen mukanaan tuomassa sääntelyssä\, kuten EU:n tekoälysäädöksessä? \n\n\n\nTekoälyratkaisujen sääntely – vaatimukset käytäntöön pk-yrityksissä -tapahtuma on sinun tilaisuutesi ymmärtää ja soveltaa uutta lainsäädäntöä käytännössä. \n\n\n\nPäivän aikana pureudutaan konkreettisiin ratkaisuihin ja käytännön työkaluihin. Tavoitteena on auttaa pk-yrityksiä soveltamaan uutta lainsäädäntöä ilman turhaa byrokratiaa\, jotta tekoälyn potentiaali voidaan hyödyntää vastuullisesti ja tehokkaasti.Lavalla nähdään Anna-Mari Wallenberg (Helsingin yliopisto)\, Peppiina Huhtala (EK)\, Susanna Mäkelä (Laissa)\, Arttu Ruukki (Fondia)\, Elisa Laatikainen (Haaga-Helia)\, Solja Sulkunen (FAIR EDIH) sekä juontajana Jesse Kamras \n\n\n\n \n\n\n\nLue lisää täältä: https://www.ainordic.com/fair-edih-toukokuu
URL:https://www.fairedih.fi/event/tekoalysaately-haltuun-pk-yrityksissa/
CATEGORIES:AI,FAIR
ATTACH;FMTTYPE=image/png:https://www.fairedih.fi/files/2025/04/Fair-Edih-toukokuu-banneri-yleinen.png
END:VEVENT
BEGIN:VEVENT
DTSTART;TZID=UTC:20250526T170000
DTEND;TZID=UTC:20250526T183000
DTSTAMP:20260422T082856
CREATED:20250514T164501Z
LAST-MODIFIED:20250514T164502Z
UID:7922-1748278800-1748284200@www.fairedih.fi
SUMMARY:FCAI's & DAIN Studios' AI Monday: The Future of Work in the Age of AI
DESCRIPTION:What does the future of work look like when AI becomes a core part of every organization? Join us for AI Monday Helsinki as we explore how artificial intelligence is reshaping the way we work—from expert roles and organizational structures to the rise of AI-native companies. \n\n\n\nJoin us on May 26\, 2025 at Tiedekulma (Helsinki) for an in-depth exploration of “The Future of Work in the Age of AI”. The event is organised n cooperation with FCAI and DAIN Studios. \n\n\n\nLearn more and sign up here: https://www.eventbrite.com/e/ai-monday-the-future-of-work-in-the-age-of-ai-tickets-1360302353959
URL:https://www.fairedih.fi/event/fcais-dain-studios-ai-monday-the-future-of-work-in-the-age-of-ai/
LOCATION:Tiedekulma / Online\, Yliopistonkatu 4\, Helsinki\, 00100\, Finland
ATTACH;FMTTYPE=image/png:https://www.fairedih.fi/files/2025/02/fcai-logo.png
END:VEVENT
BEGIN:VEVENT
DTSTART;TZID=UTC:20250527T100000
DTEND;TZID=UTC:20250527T113000
DTSTAMP:20260422T082856
CREATED:20250514T171051Z
LAST-MODIFIED:20250514T171052Z
UID:7932-1748340000-1748345400@www.fairedih.fi
SUMMARY:EIT Digital: Speed Master Lite - Unitising AI to improve SMEs
DESCRIPTION:We are pleased to invite you to the Speed Master Lite: Unitising AI to improve SMEs. This 90-minute online session will take place on Friday\, May 27\, 2025\, at 10:00 CEST.  \n\n\n\nThe seminar will provide an insightful overview on how to use AI to improve effectiveness of Small and Medium Sized enterprises. The event is held online.
URL:https://www.fairedih.fi/event/eit-digital-speed-master-lite-unitising-ai-to-improve-smes/
ATTACH;FMTTYPE=image/jpeg:https://www.fairedih.fi/files/2024/09/AdobeStock_758436639-scaled.jpeg
END:VEVENT
BEGIN:VEVENT
DTSTART;TZID=UTC:20250528T130000
DTEND;TZID=UTC:20250528T160000
DTSTAMP:20260422T082856
CREATED:20250514T165011Z
LAST-MODIFIED:20250515T000529Z
UID:7924-1748437200-1748448000@www.fairedih.fi
SUMMARY:Haaga-Helia: AI Clinic for SMEs (Finnish/English)
DESCRIPTION:Even heard of AI Clinic? Bring your own AI use-case\, a problem or a question. Let’s work on that together with Haaga-Helia’s AI specialists. Your issue may deal with everyday office work or a deployment of AI into your products or services. \n\n\n\nYou decide\, whether your case\, problem or question is open for other participants or not. You can come just to discuss your own issue\, or you can follow the discussion on other participants’ issues as well\, as long as they are not confidential.  \n\n\n\nThe AI Clinic is intended for SMEs and it is free of charge for participants. The event is supported by Haaga-Helia and the Ulysseus European University. \n\n\n\nCoffee and tea as well as something small to eat will be provided. \n\n\n\nWe are trying this concept for the first time and we are flexible to adjust the clinic according to your needs and feedback.  \n\n\n\nFurther information: Timo Kaski\, timo.kaski@haaga-helia.fi\, +358 294471500 https://www.lyyti.fi/reg/AIClinic
URL:https://www.fairedih.fi/event/haaga-helia-ai-clinic-for-smes-talk-to-ai-researchers-and-get-your-questions-resolved-finnish-english/
LOCATION:Haaga-Helia\, Pasila\, Ratapihantie 13\, Helsinki\, Suomi
ATTACH;FMTTYPE=image/png:https://www.fairedih.fi/files/2025/05/FAIR-uutiskirje-008.png
END:VEVENT
END:VCALENDAR