BEGIN:VCALENDAR
VERSION:2.0
PRODID:-//Finnish AI Region - ECPv6.15.20//NONSGML v1.0//EN
CALSCALE:GREGORIAN
METHOD:PUBLISH
X-WR-CALNAME:Finnish AI Region
X-ORIGINAL-URL:https://www.fairedih.fi
X-WR-CALDESC:Tapahtumat Finnish AI Region
REFRESH-INTERVAL;VALUE=DURATION:PT1H
X-Robots-Tag:noindex
X-PUBLISHED-TTL:PT1H
BEGIN:VTIMEZONE
TZID:UTC
BEGIN:STANDARD
TZOFFSETFROM:+0000
TZOFFSETTO:+0000
TZNAME:UTC
DTSTART:20240101T000000
END:STANDARD
END:VTIMEZONE
BEGIN:VEVENT
DTSTART;TZID=UTC:20251027T120000
DTEND;TZID=UTC:20251027T160000
DTSTAMP:20260420T013552
CREATED:20250912T135732Z
LAST-MODIFIED:20250923T060128Z
UID:9448-1761566400-1761580800@www.fairedih.fi
SUMMARY:FinEst Twins Helsinki Final Event
DESCRIPTION:We’re excited to invite you to the FinEst Twins Helsinki Final Event on 27th of October\, where the spotlight will be on smart city innovations that cross borders and create real impact. This unique event brings together urban innovators\, researchers\, companies\, and city representatives to share learnings from the FinEst Twins programme and to explore the future of smart\, sustainable cities. \n\n\n\nFAIR is proud to be one of the partner organisers\, joining forces with Forum Virium Helsinki and others to make this gathering possible. ✨ \n\n\n\nLocation: Saastamoinen Foundation Stage\, Marsio\, OtaniemiType: Live networking event with online live streamSchedule: 27 October\, 2025 at 12:00-16 (the program starts at 12:15) \n\n\n\nFinEst Twins Helsinki Final Event invites all the curious minds to learn about the latest smart city innovations beyond borders. The afternoon will concentrate on the culmination of the FinEst Twins project: the six clever solutions developed and tested during the Pilot Programme 2025. The event will offer a great chance to connect with like-minded\, innovation oriented people.  \n\n\n\nThe FinEst pilot programme focused on six topics\, all of which will be presented during the event. The fields of the six groundbreaking pilots held in Helsinki together with 18 organisations were: clean energy transition\, transport data\, pediatric innovations\, energy consumption optimisation\, 3D digital twin and AI-powered touchpoint analysis for Helsinki Youth Services. \n\n\n\n \n\n\n\nYou can read more about the chosen innovations from here: Six new pilots tackle real-world challenges in Helsinki – Forum Virium Helsinki \n\n\n\nFinEst Twins is an EU Horizon-funded project that started in 2019. \n\n\n\n📅 Save the date and join us in Helsinki to discover how collaboration can drive smarter urban futures! \n\n\n\nSign up and come to learn about the latest smart city innovations beyond borders!
URL:https://www.fairedih.fi/event/finest-twins-helsinki-final-event/
CATEGORIES:AI,Conference,data economy
ATTACH;FMTTYPE=image/png:https://www.fairedih.fi/files/2025/09/finest_lopputapahtuma.png
END:VEVENT
END:VCALENDAR