BEGIN:VCALENDAR
VERSION:2.0
PRODID:-//Finnish AI Region - ECPv6.15.20//NONSGML v1.0//EN
CALSCALE:GREGORIAN
METHOD:PUBLISH
X-WR-CALNAME:Finnish AI Region
X-ORIGINAL-URL:https://www.fairedih.fi
X-WR-CALDESC:Tapahtumat Finnish AI Region
REFRESH-INTERVAL;VALUE=DURATION:PT1H
X-Robots-Tag:noindex
X-PUBLISHED-TTL:PT1H
BEGIN:VTIMEZONE
TZID:UTC
BEGIN:STANDARD
TZOFFSETFROM:+0000
TZOFFSETTO:+0000
TZNAME:UTC
DTSTART:20240101T000000
END:STANDARD
END:VTIMEZONE
BEGIN:VEVENT
DTSTART;TZID=UTC:20251106T173000
DTEND;TZID=UTC:20251106T220000
DTSTAMP:20260419T215411
CREATED:20251011T235940Z
LAST-MODIFIED:20251011T235942Z
UID:9723-1762450200-1762466400@www.fairedih.fi
SUMMARY:LLMOps + LLM/AI-agent Evaluations in Pasila\, Helsinki
DESCRIPTION:Join us on November 6th for an evening of talks\, ideas\, and connections focused on MLOps and the latest developments in AI. This meetup brings together local practitioners who are building with and for LLMs\, agents\, and cutting-edge AI technologies\, offering real stories\, practical takeaways\, and valuable networking opportunities. \n\n\n\nPanel Discussion: Setting up Ops and Evaluations Featuring all speakers\, hosted by Jukka Remes\, Senior Lecturer at Haaga-Helia University of Applied Sciences & CTO at 8wave.ai \n\n\n\nEvent Details: Location: Haaga-Helia University of Applied Sciences\, Pasila campus (next to Pasila railway station) Date: November 6th Time: 17:30 – 22:00. You can sign up here. \n\n\n\nThe evening includes beverages\, snacks\, discussions\, and networking opportunities. The event is organized in collaboration with the ”Applied AI in Business and Education” innovation hub of the Ulysseus European University.
URL:https://www.fairedih.fi/event/llmops-llm-ai-agent-evaluations-in-pasila-helsinki/
LOCATION:Haaga-Helia\, Pasila\, Ratapihantie 13\, Helsinki\, Suomi
CATEGORIES:AI,Conference,data economy
ATTACH;FMTTYPE=image/png:https://www.fairedih.fi/files/2025/10/Helsinki-Meetup-Nov-6th-205.png
END:VEVENT
BEGIN:VEVENT
DTSTART;TZID=UTC:20251111T090000
DTEND;TZID=UTC:20251111T103000
DTSTAMP:20260419T215411
CREATED:20251012T000851Z
LAST-MODIFIED:20251111T072453Z
UID:9728-1762851600-1762857000@www.fairedih.fi
SUMMARY:Accelerating AI Scaling Through Leadership (Finnish)
DESCRIPTION:Tämä webinaari on suunnattu yrityksille ja julkisen sektorin toimijoille\, jotka haluavat oppia tekoälyn johtamisesta tekoälymurroksessa.  \n\n\n\nKuulet kokemuksia\, näkökulmia ja käytännönläheisiä esimerkkejä siitä\, miten tekoälykyvykkyydet skaalataan liiketoimintahyödyksi. Puhujina ovat tekoälyn johtamisen ammattilaisia muun muassa SOK:lta ja pk-yrityksestä. \n\n\n\nWebinaarin järjestää Haaga-Helian AI Skaalaajat -hanke. Tilaisuus on maksuton ja pidetään suomeksi. Ilmoittaudu mukaan tapahtuman verkkosivuilla.
URL:https://www.fairedih.fi/event/accelerating-ai-scaling-through-leadership-11-november-1730-2200-eet-in-finnish/
CATEGORIES:AI,Conference,data economy
ATTACH;FMTTYPE=image/png:https://www.fairedih.fi/files/2025/10/ai-skaalaajat_hankekortti.png
END:VEVENT
BEGIN:VEVENT
DTSTART;TZID=UTC:20251118T090000
DTEND;TZID=UTC:20251118T150000
DTSTAMP:20260419T215411
CREATED:20251111T072253Z
LAST-MODIFIED:20251111T072254Z
UID:10488-1763456400-1763478000@www.fairedih.fi
SUMMARY:Recotech: A Decade of Disruption – Scaling PropTech & ConTech Globally
DESCRIPTION:The leading PropTech & ConTech gathering during Slush week is back! Recotech celebrates its 10th anniversary in 2025 with a revamped format\, bringing together PropTech and ConTech startups\, scaleups\, investors and big customers to shape the future of the build environment.  \n\n\n\nThis year\, we go beyond traditional networking\, offering more facilitated matchmaking\, curated discussions and hands-on collaboration opportunities with industry’s most influential players. \n\n\n\nMain event on 18th of November: inspirational keynotes\, speed-dating and showrooms. The day’s program will be published soon. Participation is completely free. Please note that there are also side events on 17th and 19th of November 2025. You can learn more from the event’s website here.
URL:https://www.fairedih.fi/event/recotech-a-decade-of-disruption-scaling-proptech-contech-globally/
LOCATION:The Confederation of Finnish Construction Industries RT\, Eteläranta 10\, Helsinki\, Finland
CATEGORIES:AI,Conference,data economy
ATTACH;FMTTYPE=image/png:https://www.fairedih.fi/files/2025/11/Recotech_18.11.2025.png
END:VEVENT
BEGIN:VEVENT
DTSTART;TZID=UTC:20251118T110000
DTEND;TZID=UTC:20251118T180000
DTSTAMP:20260419T215411
CREATED:20251012T001625Z
LAST-MODIFIED:20251012T001627Z
UID:9733-1763463600-1763488800@www.fairedih.fi
SUMMARY:Match XR 2025 in Metropolia\, Helsinki
DESCRIPTION:Match XR is here again. The event assembles XR & emerging tech stakeholders\,opinion leaders\, and peers around the globe under the same roof at the vibrantheart of Helsinki to share ideas\, demonstrate their solutions\, and createmeaningful connections. Learn more here.
URL:https://www.fairedih.fi/event/match-xr-2025-in-metropolia-helsinki/
LOCATION:Metropolia Arabia Campus\, Hämeentie 135 D\, Helsinki\, Suomi
CATEGORIES:AI,Conference,data economy
ATTACH;FMTTYPE=image/jpeg:https://www.fairedih.fi/files/2025/10/kone-johtajana-ppt-003.jpg
END:VEVENT
END:VCALENDAR