BEGIN:VCALENDAR
VERSION:2.0
PRODID:-//Finnish AI Region - ECPv6.15.20//NONSGML v1.0//EN
CALSCALE:GREGORIAN
METHOD:PUBLISH
X-ORIGINAL-URL:https://www.fairedih.fi
X-WR-CALDESC:Tapahtumat Finnish AI Region
REFRESH-INTERVAL;VALUE=DURATION:PT1H
X-Robots-Tag:noindex
X-PUBLISHED-TTL:PT1H
BEGIN:VTIMEZONE
TZID:UTC
BEGIN:STANDARD
TZOFFSETFROM:+0000
TZOFFSETTO:+0000
TZNAME:UTC
DTSTART:20250101T000000
END:STANDARD
END:VTIMEZONE
BEGIN:VEVENT
DTSTART;TZID=UTC:20260331T160000
DTEND;TZID=UTC:20260331T180000
DTSTAMP:20260420T050624
CREATED:20260303T130740Z
LAST-MODIFIED:20260303T131220Z
UID:12407-1774972800-1774980000@www.fairedih.fi
SUMMARY:LUMI AI Factory: HealthTech meets AI
DESCRIPTION:Join us for an inspiring afternoon where cutting‑edge health technology meets the power of AI and supercomputing. The LUMI AI Factory Hub in Otaniemi invites startups\, SMEs and innovators to explore how Finland’s top-tier AI ecosystem can accelerate health-related RDI work.Are you developing AI solutions for diagnostics\, drug discovery\, biomedical imaging\, medical software\, LLMs/GenAI\, or medical devices?Come discover how your company can benefit from free AI resources\, supercomputing capacity\, and expert support.Did you know that EuroHPC LUMI — one of the world’s most powerful AI and supercomputing platforms — is available for Finnish companies’ RDI work? LUMI AI Factory especially supports startups and SMEs in harnessing AI\, from GenAI solutions to advanced AI modelling. Let’s explore how these capabilities could lift your development to the next level. \n\n\n\nWhat you will learn\n\n\n\nAI trends in healthcare:Jiancheng (JC) Yang\, Principal Investigator at the ELLIS Institute Finland and Assistant Professor at Aalto University\, will share current research directions and opportunities in AI for health. Yang leads the Health Intelligence (HINT) research group\, focusing on: \n\n\n\n\nAI for clinical decision support\n\n\n\nMedical image analysis\n\n\n\n3D vision and spatial intelligence\n\n\n\nGenerative AI and multimodal learning\n\n\n\nFoundation models for lung cancer and cardiac disease diagnostics\n\n\n\n\nHe is widely known for developing MedMNIST\, has authored over 60 publications\, and brings experience as a medical AI startup co-founder. \n\n\n\nStartup case: Gosta LabsHear how this Otaniemi-based healthtech startup has leveraged the massive AI capacity of LUMI to develop their healthcare AI assistant—giving a strong boost to their RDI work across Europe. Ecosystem services that boost AI innovation \n\n\n\nShort presentations from: \n\n\n\n\nCity of Espoo\n\n\n\nFAIR – Finnish AI Region EDIH\n\n\n\nAI Finland\n\n\n\nLUMI AI Factory\n\n\n\n\nYou’ll hear concrete ways your company can join regional\, national\, and European AI development initiatives.
URL:https://www.fairedih.fi/event/ai-x-creativity-business-espoos-breakfast-club/
CATEGORIES:AI,Conference,data economy
ATTACH;FMTTYPE=image/jpeg:https://www.fairedih.fi/files/2024/10/lumi-supercomputer-001.jpg
END:VEVENT
BEGIN:VEVENT
DTSTART;TZID=UTC:20260416T000000
DTEND;TZID=UTC:20260416T235959
DTSTAMP:20260420T050624
CREATED:20260303T131619Z
LAST-MODIFIED:20260303T131619Z
UID:12413-1776297600-1776383999@www.fairedih.fi
SUMMARY:KYBERturvallisuus X AI
DESCRIPTION:Digiturvallisuusmessut kokoavat yhteen digiturvallisuuden asiantuntijat\, organisaatiot ja yrityspäättäjät ajankohtaisten aiheiden\, ratkaisujen ja tulevaisuuden näkymien äärelle. Tapahtuman keskiössä ovat kyberturvallisuus\, tietosuoja ja riskienhallinta nopeasti muuttuvassa digitaalisessa toimintaympäristössä. \n\n\n\nMessuilla on vahvasti mukana myös tekoäly (AI) ja sen vaikutus digiturvallisuuteen. Miten tekoälyä hyödynnetään turvallisuuden vahvistamisessa\, uhkien ennakoinnissa ja poikkeamien tunnistamisessa – sekä millaisia uusia riskejä ja eettisiä kysymyksiä AI tuo mukanaan. \n\n\n\nDigiturvallisuusmessut tarjoavat ajankohtaisia puheenvuoroja turvallisuusasioiden tunnetuilta nimiltä \, käytännön esimerkkejä ja verkostoitumismahdollisuuksia kaikille\, jotka haluavat ymmärtää\, miten digiturvallisuus ja tekoäly muovaavat organisaatioiden ja yhteiskunnan tulevaisuutta. \n\n\n\nDigiturvallisuusmessut esittelevät myös konkreettisia ratkaisuja ja palveluita yrityksille ja organisaatioille tietoturvan parantamiseen. Tapahtuma yhdistää tehokkaasti digiturvallisuuden asiantuntijat\, tietoturvasta kiinnostuneet yritykset sekä kyberalan opiskelijat ja oppilaitokset. \n\n\n\nDigiturvallisuus 2026 -messut 16.4.2026 Paviljongissa\, Jyväskylässä. \n\n\n\nTervetuloa mukaan!
URL:https://www.fairedih.fi/event/kyberturvallisuus-x-ai/
CATEGORIES:AI,Conference,data economy
END:VEVENT
BEGIN:VEVENT
DTSTART;TZID=UTC:20260421T140000
DTEND;TZID=UTC:20260421T173000
DTSTAMP:20260420T050624
CREATED:20260316T111510Z
LAST-MODIFIED:20260316T120233Z
UID:12410-1776780000-1776792600@www.fairedih.fi
SUMMARY:Nordic AI Union (NAU): Helsinki workshop April 21-22\, 2026
DESCRIPTION:Is your organisation developing or utilising AI solutions\, or do you invest in those that do? Do you want to stay ahead of EU AI regulations and leverage Nordic-Baltic AI support networks? Join us in Helsinki for a dynamic workshop designed to support both businesses and public sector actors in navigating and thriving within the evolving AI landscape. \n\n\n\nThe workshops will be held on 21 April from 14:00 to 17:50 (Säätytalo\, Helsinki)\, and 22 April from 9:30 to 16:30 (Haaga-Helia UAS\, Pasila campus). \n\n\n\nWhy participate?\n\n\n\n\nUnderstand the impact of the EU AI Act on your business and operations.\n\n\n\nGain deeper insight into the Nordic-Baltic AI ecosystem (including facilitating mechanisms like EDIH\, TEF\, and AI Factories).\n\n\n\nEngage directly with authors and funding bodies.\n\n\n\nMake your voice heard in developing a more innovative and business-friendly AI ecosystem.\n\n\n\nNetwork and cooperate with AI stakeholders from Estonia\, Latvia\, and Lithuania.\n\n\n\nPrepare for AI regulatory sandboxes and future compliance.\n\n\n\n\nWho should attend?\n\n\n\n\nAI solution users\, both private and public sector actors\n\n\n\nAI solution developers\, both companies (large players\, SMEs\, and startups) as well as public sector actors\n\n\n\nInnovation facilitators and support organizations\n\n\n\nInvestors\, funders\, and regulatory authorities\n\n\n\n\nSecure your spot!\n\n\n\nThis workshop is part of the joint Nordic-Baltic NAU pre-study\, funded by the Nordic Council of Ministers. The project aims to support a unified Nordic – Baltic AI ecosystem. Seats are limited – register early to ensure your participation!
URL:https://www.fairedih.fi/event/nordic-ai-union-nau-helsinki-workshop-april-21-22-2026/
CATEGORIES:AI,Conference,data economy
ATTACH;FMTTYPE=image/jpeg:https://www.fairedih.fi/files/2025/07/fair-konejohtajana-001.jpg
END:VEVENT
END:VCALENDAR