BEGIN:VCALENDAR
VERSION:2.0
PRODID:-//Finnish AI Region - ECPv6.15.20//NONSGML v1.0//EN
CALSCALE:GREGORIAN
METHOD:PUBLISH
X-ORIGINAL-URL:https://www.fairedih.fi
X-WR-CALDESC:Tapahtumat Finnish AI Region
REFRESH-INTERVAL;VALUE=DURATION:PT1H
X-Robots-Tag:noindex
X-PUBLISHED-TTL:PT1H
BEGIN:VTIMEZONE
TZID:UTC
BEGIN:STANDARD
TZOFFSETFROM:+0000
TZOFFSETTO:+0000
TZNAME:UTC
DTSTART:20230101T000000
END:STANDARD
END:VTIMEZONE
BEGIN:VEVENT
DTSTART;TZID=UTC:20240510T090000
DTEND;TZID=UTC:20240510T100000
DTSTAMP:20260422T221722
CREATED:20240507T143709Z
LAST-MODIFIED:20240507T144321Z
UID:4418-1715331600-1715335200@www.fairedih.fi
SUMMARY:KIRAHub: Urbaanit visionääri -tietoisku
DESCRIPTION:Toiveenne on kuultu ja KIRAHub striimaa rakennetun ympäristön kestävään digitalisaatioon liittyviä tietoiskuja suorana Urban3-tilasta perjantaisin klo 9:30-10:00! Mistä digiteemasta pitäisi puhua juuri nyt ja miksi? Sen kertovat tietoiskuista vastaavat Urbaanit visionäärit!   \n\n\n\nYouTuben streamiin  >>
URL:https://www.fairedih.fi/event/kirahub-urbaanit-visionaari-tietoisku/
END:VEVENT
BEGIN:VEVENT
DTSTART;TZID=UTC:20240522T080000
DTEND;TZID=UTC:20240522T120000
DTSTAMP:20260422T221722
CREATED:20240419T095450Z
LAST-MODIFIED:20240507T144840Z
UID:4369-1716364800-1716379200@www.fairedih.fi
SUMMARY:FAIR & Business Vantaa: Tekoälyn hyödyntäminen pk-yrityksissä
DESCRIPTION:Haluaisitko hyödyntää tehokkaammin tekoälyä yrityksesi arjessa? Tekoälyn hyödyntäminen pk-yrityksissä” -tapahtuma avaa uusia mahdollisuuksia liiketoimintasi kehittämiseen.  \n\n\n\nLuvassa asiantuntijoiden puheenvuorot aiheesta sekä käyttäjäkokemuksia tekoälystä paneelikeskustelun muodossa. Tilaisuudessa pääset verkostoitumaan muiden yritysten kanssa\, kuulemaan FAIR-hankkeen palveluista tarpeisiinne sekä tutustumaan Metropolian opetustiloihin.  \n\n\n\nTapahtuma on osa Finnish AI Region eli FAIR-hanketta. FAIR tarjoaa yrityksille matalan kynnyksen asiantuntijuutta tekoälyn\, laajennetun todellisuuden\, suurteholaskennan ja kyberturvallisuuden saralla. \n\n\n\nIlmoittaudu ja lue lisää osoitteessa: Tekoälyn hyödyntäminen Pk-yrityksessä (vantaa.fi) \n\n\n\nAlustava ohjelma\n\n\n\n8.30  Kahvia ja aamupalaa \n\n\n\n9.00  Tilaisuuden avaa Tiina Vuorijärvi\, Metropolia Ammattikorkeakoulu  \n\n\n\n9.15   Teemu Vidgren\, Microsoft: Tuottavuusloikka tekoälyllä  \n\n\n\n9.35  Olli Sinerma\, Business Finland  \n\n\n\n9.55  Tauko ja lisää kahvia  \n\n\n\n10.30 Sandra Calvo\, Google\, Generatiivisen tekoälyn mahdollisuudet liiketoiminnan tehostamisessa \n\n\n\n10.50 Paneelikeskustelu: Käyttäjäkokemuksia tekoälystä \n\n\n\n11.30  Solja Sulkunen: Helsingin kaupunki\, FAIR -hankkeen palvelut \n\n\n\n12.00 Metropolia Ammattikorkeakoulun opetustilojen esittely
URL:https://www.fairedih.fi/event/fair-event-tekoalyn-hyodyntaminen-pk-yrityksessa/
LOCATION:Metropolian Myyrmäen kampus\, Leiritie 1\, 01600 Vantaa\, Vantaa\, Uusimaa\, Suomi
ATTACH;FMTTYPE=image/jpeg:https://www.fairedih.fi/files/2024/04/fair-vantaa-tapahtuma.jpg
ORGANIZER;CN="Business Vantaa":MAILTO:laila.brocker@vantaa.fi
END:VEVENT
END:VCALENDAR